BEGIN:VCALENDAR
VERSION:2.0
PRODID:-//Limerzel - ECPv5.9.2//NONSGML v1.0//EN
CALSCALE:GREGORIAN
METHOD:PUBLISH
X-WR-CALNAME:Limerzel
X-ORIGINAL-URL:https://www.limerzel.fr
X-WR-CALDESC:évènements pour Limerzel
BEGIN:VTIMEZONE
TZID:Europe/Paris
BEGIN:DAYLIGHT
TZOFFSETFROM:+0100
TZOFFSETTO:+0200
TZNAME:CEST
DTSTART:20160327T010000
END:DAYLIGHT
BEGIN:STANDARD
TZOFFSETFROM:+0200
TZOFFSETTO:+0100
TZNAME:CET
DTSTART:20161030T010000
END:STANDARD
END:VTIMEZONE
BEGIN:VEVENT
DTSTART;TZID=Europe/Paris:20160902T090000
DTEND;TZID=Europe/Paris:20160925T170000
DTSTAMP:20260425T021900
CREATED:20160825T152600Z
LAST-MODIFIED:20160826T160221Z
UID:6161-1472806800-1474822800@www.limerzel.fr
SUMMARY:Exposition Horizons – Les Digitales à Caden
DESCRIPTION:Œuvres d’artistes contemporains\nLes digitales et l’artothèque Tal Coat d’Hennebont présentent une collection éclectique de lithographies\, sérigraphie\, carborundum et eaux fortes de 11 artistes qui se sont emparés du végétal et de l’urbain.\nwww.artotheques-adra.com/hennebont.php
URL:https://www.limerzel.fr/evenement/exposition-horizons-digitales-a-caden/
LOCATION:Caden
END:VEVENT
BEGIN:VEVENT
DTSTART;TZID=Europe/Paris:20160910T140000
DTEND;TZID=Europe/Paris:20160910T170000
DTSTAMP:20260425T021900
CREATED:20160905T080858Z
LAST-MODIFIED:20160905T080858Z
UID:6172-1473516000-1473526800@www.limerzel.fr
SUMMARY:Zone de gratuité
DESCRIPTION:Samedi 10 Septembre : Bourg de limerzel à partir de 14h\, JOURNEE SOLIDAIRE « Zone de Gratuité » Atelier échange de savoirs (cuisine\, couture\, jardinage\,…) et présentation du SEL système Echange Local de REdon
URL:https://www.limerzel.fr/evenement/zone-de-gratuite/
END:VEVENT
BEGIN:VEVENT
DTSTART;TZID=Europe/Paris:20160910T180000
DTEND;TZID=Europe/Paris:20160910T180000
DTSTAMP:20260425T021900
CREATED:20160905T080958Z
LAST-MODIFIED:20160905T080958Z
UID:6173-1473530400-1473530400@www.limerzel.fr
SUMMARY:Balade contée chantée
DESCRIPTION:Samedi 10\, 18H Balade contée chantée suivie d’un apéro musical.
URL:https://www.limerzel.fr/evenement/balade-contee-chantee/
END:VEVENT
END:VCALENDAR