BEGIN:VCALENDAR
VERSION:2.0
PRODID:-//Limerzel - ECPv5.9.2//NONSGML v1.0//EN
CALSCALE:GREGORIAN
METHOD:PUBLISH
X-WR-CALNAME:Limerzel
X-ORIGINAL-URL:https://www.limerzel.fr
X-WR-CALDESC:évènements pour Limerzel
BEGIN:VTIMEZONE
TZID:Europe/Paris
BEGIN:DAYLIGHT
TZOFFSETFROM:+0100
TZOFFSETTO:+0200
TZNAME:CEST
DTSTART:20160327T010000
END:DAYLIGHT
BEGIN:STANDARD
TZOFFSETFROM:+0200
TZOFFSETTO:+0100
TZNAME:CET
DTSTART:20161030T010000
END:STANDARD
END:VTIMEZONE
BEGIN:VEVENT
DTSTART;TZID=Europe/Paris:20160902T090000
DTEND;TZID=Europe/Paris:20160925T170000
DTSTAMP:20260424T232836
CREATED:20160825T152600Z
LAST-MODIFIED:20160826T160221Z
UID:6161-1472806800-1474822800@www.limerzel.fr
SUMMARY:Exposition Horizons – Les Digitales à Caden
DESCRIPTION:Œuvres d’artistes contemporains\nLes digitales et l’artothèque Tal Coat d’Hennebont présentent une collection éclectique de lithographies\, sérigraphie\, carborundum et eaux fortes de 11 artistes qui se sont emparés du végétal et de l’urbain.\nwww.artotheques-adra.com/hennebont.php
URL:https://www.limerzel.fr/evenement/exposition-horizons-digitales-a-caden/
LOCATION:Caden
END:VEVENT
BEGIN:VEVENT
DTSTART;TZID=Europe/Paris:20160912T193000
DTEND;TZID=Europe/Paris:20160912T193000
DTSTAMP:20260424T232836
CREATED:20160905T081154Z
LAST-MODIFIED:20160905T081154Z
UID:6174-1473708600-1473708600@www.limerzel.fr
SUMMARY:Découverte badminton
DESCRIPTION:Salle de sports\, 19h30. Découverte Badminton pour adultes et jeunes de + de 13 ans.
URL:https://www.limerzel.fr/evenement/decouverte-badminton/
END:VEVENT
END:VCALENDAR