BEGIN:VCALENDAR
VERSION:2.0
PRODID:-//Limerzel - ECPv5.9.2//NONSGML v1.0//EN
CALSCALE:GREGORIAN
METHOD:PUBLISH
X-WR-CALNAME:Limerzel
X-ORIGINAL-URL:https://www.limerzel.fr
X-WR-CALDESC:évènements pour Limerzel
BEGIN:VTIMEZONE
TZID:Europe/Paris
BEGIN:DAYLIGHT
TZOFFSETFROM:+0100
TZOFFSETTO:+0200
TZNAME:CEST
DTSTART:20160327T010000
END:DAYLIGHT
BEGIN:STANDARD
TZOFFSETFROM:+0200
TZOFFSETTO:+0100
TZNAME:CET
DTSTART:20161030T010000
END:STANDARD
END:VTIMEZONE
BEGIN:VEVENT
DTSTART;VALUE=DATE:20161001
DTEND;VALUE=DATE:20161015
DTSTAMP:20260423T122135
CREATED:20160621T090713Z
LAST-MODIFIED:20160921T093745Z
UID:5478-1475280000-1476489599@www.limerzel.fr
SUMMARY:Semaine bleue
DESCRIPTION:Cette année encore\, la semaine bleue (qui dure 2 semaines !) réserve de beaux moments\nde convivialité aux retraités du territoire.Voir le programme.
URL:https://www.limerzel.fr/evenement/semaine-bleue/
END:VEVENT
BEGIN:VEVENT
DTSTART;TZID=Europe/Paris:20161001T080000
DTEND;TZID=Europe/Paris:20161002T170000
DTSTAMP:20260423T122135
CREATED:20160927T152124Z
LAST-MODIFIED:20160927T152124Z
UID:6291-1475308800-1475427600@www.limerzel.fr
SUMMARY:Portes ouvertes "Ateliers d'artistes"
DESCRIPTION:26 artistes sur 12 communes vous ouvrent les portes de leur atelier…\nVenez découvrir les ateliers de 26 artistes sur 12 communes autour de Questembert\, Damgan\, Muzillac et La Roche-Bernard.\nTourisme Arc Sud Bretagne et Rochefort-en-Terre Tourisme\, offices de tourisme communautaires\, ont souhaité s’associer aux artistes présents sur ces deux territoires\, pour organiser ces Portes Ouvertes. Sculpteurs\, peintres\, photographes\, et autres créateurs invitent les amateurs d’art à venir découvrir leurs univers\, partager leurs pratiques artistiques\, parfois dans des lieux insolites. La rencontre avec l’artiste et la découverte de l’atelier font la spécificité de cette manifestation. Pour cette 3ème édition\, plusieurs artistes répartis sur le territoire d’Arc sud Bretagne et Rochefort en Terre Tourisme accueilleront les visiteurs pour échanger en toute convivialité. \n> Voir le programme
URL:https://www.limerzel.fr/evenement/portes-ouvertes-ateliers-dartistes/
END:VEVENT
BEGIN:VEVENT
DTSTART;TZID=Europe/Paris:20161001T090000
DTEND;TZID=Europe/Paris:20161002T170000
DTSTAMP:20260423T122135
CREATED:20160825T152513Z
LAST-MODIFIED:20160825T152513Z
UID:6160-1475312400-1475427600@www.limerzel.fr
SUMMARY:Ateliers d’artistes – salle associative
DESCRIPTION:
URL:https://www.limerzel.fr/evenement/ateliers-dartistes-salle-associative/
END:VEVENT
END:VCALENDAR