BEGIN:VCALENDAR
VERSION:2.0
PRODID:-//Limerzel - ECPv5.9.2//NONSGML v1.0//EN
CALSCALE:GREGORIAN
METHOD:PUBLISH
X-WR-CALNAME:Limerzel
X-ORIGINAL-URL:https://www.limerzel.fr
X-WR-CALDESC:évènements pour Limerzel
BEGIN:VTIMEZONE
TZID:Europe/Paris
BEGIN:DAYLIGHT
TZOFFSETFROM:+0100
TZOFFSETTO:+0200
TZNAME:CEST
DTSTART:20160327T010000
END:DAYLIGHT
BEGIN:STANDARD
TZOFFSETFROM:+0200
TZOFFSETTO:+0100
TZNAME:CET
DTSTART:20161030T010000
END:STANDARD
END:VTIMEZONE
BEGIN:VEVENT
DTSTART;VALUE=DATE:20161001
DTEND;VALUE=DATE:20161015
DTSTAMP:20260421T131557
CREATED:20160621T090713Z
LAST-MODIFIED:20160921T093745Z
UID:5478-1475280000-1476489599@www.limerzel.fr
SUMMARY:Semaine bleue
DESCRIPTION:Cette année encore\, la semaine bleue (qui dure 2 semaines !) réserve de beaux moments\nde convivialité aux retraités du territoire.Voir le programme.
URL:https://www.limerzel.fr/evenement/semaine-bleue/
END:VEVENT
BEGIN:VEVENT
DTSTART;TZID=Europe/Paris:20161013T200000
DTEND;TZID=Europe/Paris:20161013T213000
DTSTAMP:20260421T131557
CREATED:20160921T095715Z
LAST-MODIFIED:20161012T131538Z
UID:6263-1476388800-1476394200@www.limerzel.fr
SUMMARY:Aymeric Maini Trio à l'Asphodèle
DESCRIPTION:Aymeric Maini Trio\nAccompagné par David Ledeunff et Julia Charler
URL:https://www.limerzel.fr/evenement/lasphodele/
LOCATION:Asphodèle\, Questembert
END:VEVENT
END:VCALENDAR