BEGIN:VCALENDAR
VERSION:2.0
PRODID:-//Limerzel - ECPv5.9.2//NONSGML v1.0//EN
CALSCALE:GREGORIAN
METHOD:PUBLISH
X-WR-CALNAME:Limerzel
X-ORIGINAL-URL:https://www.limerzel.fr
X-WR-CALDESC:évènements pour Limerzel
BEGIN:VTIMEZONE
TZID:Europe/Paris
BEGIN:DAYLIGHT
TZOFFSETFROM:+0100
TZOFFSETTO:+0200
TZNAME:CEST
DTSTART:20160327T010000
END:DAYLIGHT
BEGIN:STANDARD
TZOFFSETFROM:+0200
TZOFFSETTO:+0100
TZNAME:CET
DTSTART:20161030T010000
END:STANDARD
END:VTIMEZONE
BEGIN:VEVENT
DTSTART;VALUE=DATE:20161020
DTEND;VALUE=DATE:20161021
DTSTAMP:20260420T125029
CREATED:20160621T092438Z
LAST-MODIFIED:20160621T092438Z
UID:5485-1476921600-1477007999@www.limerzel.fr
SUMMARY:FNACA
DESCRIPTION:Distribution des cartes à la salle associative.
URL:https://www.limerzel.fr/evenement/fnaca/
END:VEVENT
BEGIN:VEVENT
DTSTART;TZID=Europe/Paris:20161020T200000
DTEND;TZID=Europe/Paris:20161020T210000
DTSTAMP:20260420T125029
CREATED:20161014T155204Z
LAST-MODIFIED:20161014T155204Z
UID:6378-1476993600-1476997200@www.limerzel.fr
SUMMARY:Stage découverte "Strong by Zumba"
DESCRIPTION:Par l’association Zumba’zelle.\nSalle de Sports de Limerzel.\n3 € pour les adhérents\, 5 € pour les personnes extérieures
URL:https://www.limerzel.fr/evenement/stage-decouverte-strong-by-zumba/
END:VEVENT
END:VCALENDAR