BEGIN:VCALENDAR
VERSION:2.0
PRODID:-//Limerzel - ECPv5.9.2//NONSGML v1.0//EN
CALSCALE:GREGORIAN
METHOD:PUBLISH
X-WR-CALNAME:Limerzel
X-ORIGINAL-URL:https://www.limerzel.fr
X-WR-CALDESC:évènements pour Limerzel
BEGIN:VTIMEZONE
TZID:Europe/Paris
BEGIN:DAYLIGHT
TZOFFSETFROM:+0100
TZOFFSETTO:+0200
TZNAME:CEST
DTSTART:20230326T010000
END:DAYLIGHT
BEGIN:STANDARD
TZOFFSETFROM:+0200
TZOFFSETTO:+0100
TZNAME:CET
DTSTART:20231029T010000
END:STANDARD
END:VTIMEZONE
BEGIN:VEVENT
DTSTART;TZID=Europe/Paris:20230311T100000
DTEND;TZID=Europe/Paris:20230311T183000
DTSTAMP:20260420T084151
CREATED:20230308T090915Z
LAST-MODIFIED:20230308T090915Z
UID:26847-1678528800-1678559400@www.limerzel.fr
SUMMARY:Rencontre de pays 2023
DESCRIPTION:
URL:https://www.limerzel.fr/evenement/rencontre-de-pays-2023/
LOCATION:Salle de l’Asphodèle\, Questembert
ATTACH;FMTTYPE=image/jpeg:https://www.limerzel.fr/wp-content/uploads/2016/11/Fotolia_117424980_XL.jpg
END:VEVENT
BEGIN:VEVENT
DTSTART;TZID=Europe/Paris:20230311T113000
DTEND;TZID=Europe/Paris:20230311T173000
DTSTAMP:20260420T084151
CREATED:20230224T091326Z
LAST-MODIFIED:20230224T091326Z
UID:26633-1678534200-1678555800@www.limerzel.fr
SUMMARY:Sortie habitants - Découverte de l'île au Pies
DESCRIPTION:
URL:https://www.limerzel.fr/evenement/sortie-habitants-decouverte-de-lile-au-pies/
LOCATION:Centre social Eveil\, 8 rue de la métairie\, Limerzel\, 56220
ATTACH;FMTTYPE=image/jpeg:https://www.limerzel.fr/wp-content/uploads/2020/02/randonnée2.jpg
END:VEVENT
BEGIN:VEVENT
DTSTART;TZID=Europe/Paris:20230311T133000
DTEND;TZID=Europe/Paris:20230311T180000
DTSTAMP:20260420T084151
CREATED:20230301T102117Z
LAST-MODIFIED:20230301T102136Z
UID:26700-1678541400-1678557600@www.limerzel.fr
SUMMARY:Forum de l'emploi saisonnier
DESCRIPTION:
URL:https://www.limerzel.fr/evenement/26700/
LOCATION:Questembert Communauté\, 8\, avenue de la gare\, Questembert\, 56230
ATTACH;FMTTYPE=image/jpeg:https://www.limerzel.fr/wp-content/uploads/2016/07/Fotolia_44918230_XS.jpg
END:VEVENT
END:VCALENDAR