BEGIN:VCALENDAR
VERSION:2.0
PRODID:-//Limerzel - ECPv5.9.2//NONSGML v1.0//EN
CALSCALE:GREGORIAN
METHOD:PUBLISH
X-WR-CALNAME:Limerzel
X-ORIGINAL-URL:https://www.limerzel.fr
X-WR-CALDESC:évènements pour Limerzel
BEGIN:VTIMEZONE
TZID:Europe/Paris
BEGIN:DAYLIGHT
TZOFFSETFROM:+0100
TZOFFSETTO:+0200
TZNAME:CEST
DTSTART:20230326T010000
END:DAYLIGHT
BEGIN:STANDARD
TZOFFSETFROM:+0200
TZOFFSETTO:+0100
TZNAME:CET
DTSTART:20231029T010000
END:STANDARD
END:VTIMEZONE
BEGIN:VEVENT
DTSTART;TZID=Europe/Paris:20230313T143000
DTEND;TZID=Europe/Paris:20230313T163000
DTSTAMP:20260420T004418
CREATED:20230224T091923Z
LAST-MODIFIED:20230224T091923Z
UID:26636-1678717800-1678725000@www.limerzel.fr
SUMMARY:Café sénior / La relation aidant.e / aidé.ée
DESCRIPTION:
URL:https://www.limerzel.fr/evenement/cafe-senior-la-relation-aidant-e-aide-ee/
LOCATION:Salle du Palis Bleu\, Malansac
END:VEVENT
END:VCALENDAR