BEGIN:VCALENDAR
VERSION:2.0
PRODID:-//Limerzel - ECPv5.9.2//NONSGML v1.0//EN
CALSCALE:GREGORIAN
METHOD:PUBLISH
X-WR-CALNAME:Limerzel
X-ORIGINAL-URL:https://www.limerzel.fr
X-WR-CALDESC:évènements pour Limerzel
BEGIN:VTIMEZONE
TZID:Europe/Paris
BEGIN:DAYLIGHT
TZOFFSETFROM:+0100
TZOFFSETTO:+0200
TZNAME:CEST
DTSTART:20160327T010000
END:DAYLIGHT
BEGIN:STANDARD
TZOFFSETFROM:+0200
TZOFFSETTO:+0100
TZNAME:CET
DTSTART:20161030T010000
END:STANDARD
END:VTIMEZONE
BEGIN:VEVENT
DTSTART;TZID=Europe/Paris:20160924T153000
DTEND;TZID=Europe/Paris:20160924T170000
DTSTAMP:20260421T164546
CREATED:20160825T154638Z
LAST-MODIFIED:20160914T135221Z
UID:6164-1474731000-1474736400@www.limerzel.fr
SUMMARY:Animation sérigraphie + visuel
DESCRIPTION:Samedi 24 septembre de 15h30 à 17h\nGratuit – sur inscription – Tout public à partir de 8 ans (mineurs accompagnés)\nDécouvrez la sérigraphie\, une technique d’impression qui se pratique sur différents supports (papier\, tissu\, bois\, plastique\, verre\,…). Cette animation vous permettra d’expérimenter de façon artisanale ces gestes d’impression sur un textile uni de votre choix (t-shirt\, sac\, torchon\,…) que vous apporterez.\nAvec Servanne Le Guilloux\, peintre-plasticienne Cadenaise\nCentre Culturel Les Digitales\, CADEN \n\n\nPartager la publication "Animation sérigraphie + visuel" \n\n	FacebookXPartager...
URL:https://www.limerzel.fr/evenement/animation-serigraphie-visuel/
LOCATION:Caden
END:VEVENT
END:VCALENDAR