BEGIN:VCALENDAR
VERSION:2.0
PRODID:-//Limerzel - ECPv5.9.2//NONSGML v1.0//EN
CALSCALE:GREGORIAN
METHOD:PUBLISH
X-WR-CALNAME:Limerzel
X-ORIGINAL-URL:https://www.limerzel.fr
X-WR-CALDESC:évènements pour Limerzel
BEGIN:VTIMEZONE
TZID:Europe/Paris
BEGIN:DAYLIGHT
TZOFFSETFROM:+0100
TZOFFSETTO:+0200
TZNAME:CEST
DTSTART:20160327T010000
END:DAYLIGHT
BEGIN:STANDARD
TZOFFSETFROM:+0200
TZOFFSETTO:+0100
TZNAME:CET
DTSTART:20161030T010000
END:STANDARD
END:VTIMEZONE
BEGIN:VEVENT
DTSTART;TZID=Europe/Paris:20160916T183000
DTEND;TZID=Europe/Paris:20160916T183000
DTSTAMP:20260422T110632
CREATED:20160905T200805Z
LAST-MODIFIED:20160905T200805Z
UID:6178-1474050600-1474050600@www.limerzel.fr
SUMMARY:Badminton et tennis de table
DESCRIPTION:Vendredi 16\, à 18h30\, Salle des sports : découverte pour les adultes et jeune de plus de 13 ans\, badminton et tennis de table. \n\n\nPartager la publication "Badminton et tennis de table" \n\n	FacebookXPartager...
URL:https://www.limerzel.fr/evenement/badminton-tennis-de-table/
END:VEVENT
END:VCALENDAR