BEGIN:VCALENDAR
VERSION:2.0
PRODID:-//Limerzel - ECPv5.9.2//NONSGML v1.0//EN
CALSCALE:GREGORIAN
METHOD:PUBLISH
X-WR-CALNAME:Limerzel
X-ORIGINAL-URL:https://www.limerzel.fr
X-WR-CALDESC:évènements pour Limerzel
BEGIN:VTIMEZONE
TZID:Europe/Paris
BEGIN:DAYLIGHT
TZOFFSETFROM:+0100
TZOFFSETTO:+0200
TZNAME:CEST
DTSTART:20230326T010000
END:DAYLIGHT
BEGIN:STANDARD
TZOFFSETFROM:+0200
TZOFFSETTO:+0100
TZNAME:CET
DTSTART:20231029T010000
END:STANDARD
END:VTIMEZONE
BEGIN:VEVENT
DTSTART;TZID=Europe/Paris:20230630T101500
DTEND;TZID=Europe/Paris:20230630T101500
DTSTAMP:20260422T115758
CREATED:20230531T154520Z
LAST-MODIFIED:20230531T154520Z
UID:27893-1688120100-1688120100@www.limerzel.fr
SUMMARY:Bébé lit\, bébé bouge
DESCRIPTION:Partager la publication "Bébé lit\, bébé bouge" \n\n	FacebookXPartager...
URL:https://www.limerzel.fr/evenement/bebe-lit-bebe-bouge-5/
LOCATION:salle associative\, Limerzel\, 56220
ATTACH;FMTTYPE=image/jpeg:https://www.limerzel.fr/wp-content/uploads/2023/02/children-g0df00fabf_1920.jpg
END:VEVENT
END:VCALENDAR