BEGIN:VCALENDAR
VERSION:2.0
PRODID:-//Limerzel - ECPv5.9.2//NONSGML v1.0//EN
CALSCALE:GREGORIAN
METHOD:PUBLISH
X-WR-CALNAME:Limerzel
X-ORIGINAL-URL:https://www.limerzel.fr
X-WR-CALDESC:évènements pour Limerzel
BEGIN:VTIMEZONE
TZID:Europe/Paris
BEGIN:DAYLIGHT
TZOFFSETFROM:+0100
TZOFFSETTO:+0200
TZNAME:CEST
DTSTART:20210328T010000
END:DAYLIGHT
BEGIN:STANDARD
TZOFFSETFROM:+0200
TZOFFSETTO:+0100
TZNAME:CET
DTSTART:20211031T010000
END:STANDARD
END:VTIMEZONE
BEGIN:VEVENT
DTSTART;TZID=Europe/Paris:20210716T183000
DTEND;TZID=Europe/Paris:20210716T183000
DTSTAMP:20260424T103239
CREATED:20210715T074807Z
LAST-MODIFIED:20210715T074807Z
UID:11223-1626460200-1626460200@www.limerzel.fr
SUMMARY:Concert - Les secrets de Morphée
DESCRIPTION:Prix libre \nRenseignements au 06.60.53.12.86 \nAlbum CD en vente du place \n\n\nPartager la publication "Concert – Les secrets de Morphée" \n\n	FacebookXPartager...
URL:https://www.limerzel.fr/evenement/concert-les-secrets-de-morphee/
LOCATION:Saint-Gravé\, Saint-Gravé\, 56220
ATTACH;FMTTYPE=image/png:https://www.limerzel.fr/wp-content/uploads/2018/10/music-159867_960_720.png
END:VEVENT
END:VCALENDAR