BEGIN:VCALENDAR
VERSION:2.0
PRODID:-//Limerzel - ECPv5.9.2//NONSGML v1.0//EN
CALSCALE:GREGORIAN
METHOD:PUBLISH
X-WR-CALNAME:Limerzel
X-ORIGINAL-URL:https://www.limerzel.fr
X-WR-CALDESC:évènements pour Limerzel
BEGIN:VTIMEZONE
TZID:Europe/Paris
BEGIN:DAYLIGHT
TZOFFSETFROM:+0100
TZOFFSETTO:+0200
TZNAME:CEST
DTSTART:20160327T010000
END:DAYLIGHT
BEGIN:STANDARD
TZOFFSETFROM:+0200
TZOFFSETTO:+0100
TZNAME:CET
DTSTART:20161030T010000
END:STANDARD
END:VTIMEZONE
BEGIN:VEVENT
DTSTART;TZID=Europe/Paris:20160916T203000
DTEND;TZID=Europe/Paris:20160916T203000
DTSTAMP:20260422T072530
CREATED:20160906T072440Z
LAST-MODIFIED:20160906T072440Z
UID:6179-1474057800-1474057800@www.limerzel.fr
SUMMARY:Découverte volley-ball
DESCRIPTION:Salle des sports\, découverte pour les adultes et jeune de plus de 13 ans\, volley-ball. \n\n\nPartager la publication "Découverte volley-ball" \n\n	FacebookXPartager...
URL:https://www.limerzel.fr/evenement/decouverte-volley-ball/
END:VEVENT
END:VCALENDAR