BEGIN:VCALENDAR
VERSION:2.0
PRODID:-//Limerzel - ECPv5.9.2//NONSGML v1.0//EN
CALSCALE:GREGORIAN
METHOD:PUBLISH
X-WR-CALNAME:Limerzel
X-ORIGINAL-URL:https://www.limerzel.fr
X-WR-CALDESC:évènements pour Limerzel
BEGIN:VTIMEZONE
TZID:Europe/Paris
BEGIN:DAYLIGHT
TZOFFSETFROM:+0100
TZOFFSETTO:+0200
TZNAME:CEST
DTSTART:20250330T010000
END:DAYLIGHT
BEGIN:STANDARD
TZOFFSETFROM:+0200
TZOFFSETTO:+0100
TZNAME:CET
DTSTART:20251026T010000
END:STANDARD
END:VTIMEZONE
BEGIN:VEVENT
DTSTART;TZID=Europe/Paris:20250404T143000
DTEND;TZID=Europe/Paris:20250404T163000
DTSTAMP:20260421T233456
CREATED:20250401T080657Z
LAST-MODIFIED:20250401T080657Z
UID:34405-1743777000-1743784200@www.limerzel.fr
SUMMARY:Dépistage du cancer pour tous - Stand d'informations et de prévention
DESCRIPTION:Partager la publication "Dépistage du cancer pour tous – Stand d’informations et de prévention" \n\n	FacebookXPartager...
URL:https://www.limerzel.fr/evenement/depistage-du-cancer-pour-tous-stand-dinformations-et-de-prevention/
LOCATION:Centre social Eveil\, 8 rue de la métairie\, Limerzel\, 56220
ATTACH;FMTTYPE=image/jpeg:https://www.limerzel.fr/wp-content/uploads/2022/01/LOGO-ARS.jpg
END:VEVENT
END:VCALENDAR