BEGIN:VCALENDAR
VERSION:2.0
PRODID:-//Limerzel - ECPv5.9.2//NONSGML v1.0//EN
CALSCALE:GREGORIAN
METHOD:PUBLISH
X-WR-CALNAME:Limerzel
X-ORIGINAL-URL:https://www.limerzel.fr
X-WR-CALDESC:évènements pour Limerzel
BEGIN:VTIMEZONE
TZID:Europe/Paris
BEGIN:DAYLIGHT
TZOFFSETFROM:+0100
TZOFFSETTO:+0200
TZNAME:CEST
DTSTART:20210328T010000
END:DAYLIGHT
BEGIN:STANDARD
TZOFFSETFROM:+0200
TZOFFSETTO:+0100
TZNAME:CET
DTSTART:20211031T010000
END:STANDARD
END:VTIMEZONE
BEGIN:VEVENT
DTSTART;TZID=Europe/Paris:20211030T110000
DTEND;TZID=Europe/Paris:20211030T113000
DTSTAMP:20260425T164919
CREATED:20211002T084604Z
LAST-MODIFIED:20211002T084604Z
UID:11464-1635591600-1635593400@www.limerzel.fr
SUMMARY:Festi'Mômes - Poésie chantée pour tout-petits
DESCRIPTION:Chansons d’amour pour ton bébé raconte avec légèreté les joies et les tracas qui entourent l’arrivée d’un bébé dans une famille. \nDe 0 à 3 ans \n\n\nPartager la publication "Festi’Mômes – Poésie chantée pour tout-petits" \n\n	FacebookXPartager...
URL:https://www.limerzel.fr/evenement/festimomes-poesie-chantee-pour-tout-petits/
LOCATION:Les Digitales\, Caden\, 56220\, France Métropolitaine
END:VEVENT
END:VCALENDAR