BEGIN:VCALENDAR
VERSION:2.0
PRODID:-//Limerzel - ECPv5.9.2//NONSGML v1.0//EN
CALSCALE:GREGORIAN
METHOD:PUBLISH
X-WR-CALNAME:Limerzel
X-ORIGINAL-URL:https://www.limerzel.fr
X-WR-CALDESC:évènements pour Limerzel
BEGIN:VTIMEZONE
TZID:Europe/Paris
BEGIN:DAYLIGHT
TZOFFSETFROM:+0100
TZOFFSETTO:+0200
TZNAME:CEST
DTSTART:20210328T010000
END:DAYLIGHT
BEGIN:STANDARD
TZOFFSETFROM:+0200
TZOFFSETTO:+0100
TZNAME:CET
DTSTART:20211031T010000
END:STANDARD
END:VTIMEZONE
BEGIN:VEVENT
DTSTART;TZID=Europe/Paris:20210625T093000
DTEND;TZID=Europe/Paris:20210625T173000
DTSTAMP:20260423T204930
CREATED:20210619T091039Z
LAST-MODIFIED:20210619T091039Z
UID:11178-1624613400-1624642200@www.limerzel.fr
SUMMARY:Job dating
DESCRIPTION:Partager la publication "Job dating" \n\n	FacebookXPartager...
URL:https://www.limerzel.fr/evenement/job-dating/
LOCATION:vannes\, vannes\, 56000
ATTACH;FMTTYPE=image/jpeg:https://www.limerzel.fr/wp-content/uploads/2019/10/p40-mission-locale.jpg
END:VEVENT
END:VCALENDAR