BEGIN:VCALENDAR
VERSION:2.0
PRODID:-//Limerzel - ECPv5.9.2//NONSGML v1.0//EN
CALSCALE:GREGORIAN
METHOD:PUBLISH
X-WR-CALNAME:Limerzel
X-ORIGINAL-URL:https://www.limerzel.fr
X-WR-CALDESC:évènements pour Limerzel
BEGIN:VTIMEZONE
TZID:Europe/Paris
BEGIN:DAYLIGHT
TZOFFSETFROM:+0100
TZOFFSETTO:+0200
TZNAME:CEST
DTSTART:20230326T010000
END:DAYLIGHT
BEGIN:STANDARD
TZOFFSETFROM:+0200
TZOFFSETTO:+0100
TZNAME:CET
DTSTART:20231029T010000
END:STANDARD
END:VTIMEZONE
BEGIN:VEVENT
DTSTART;TZID=Europe/Paris:20230713T193000
DTEND;TZID=Europe/Paris:20230713T193000
DTSTAMP:20260421T170611
CREATED:20230706T084535Z
LAST-MODIFIED:20230706T084535Z
UID:28209-1689276600-1689276600@www.limerzel.fr
SUMMARY:Limerzel fait son cinéma
DESCRIPTION:Limerzel fait son cinéma le jeudi 13 juillet 2023\nAu programme :\n19h30 – 20h : retrouvons nous autour d’un verre offert par la municipalité\n20h – 22h : place au concert avec Job LAGADEC\n22h45 : diffusion du film « E.T. »\nAnimations gratuites\nRendez vous le jeudi 13 juillet sur la pelouse de la salle polyvalente\nRestauration et buvette sur place (N’oubliez pas vos chaises pliantes\, couvertures\,..)\nRenseignement en Mairie au 02 97 66 20 52\n\n\n\n\n\n\n\nPartager la publication "Limerzel fait son cinéma" \n\n	FacebookXPartager...
URL:https://www.limerzel.fr/evenement/limerzel-fait-son-cinema-3/
LOCATION:salle polyvalente\, limerzel\, 56220\, France
ATTACH;FMTTYPE=image/jpeg:https://www.limerzel.fr/wp-content/uploads/2019/01/kid-holding-clapper-board-shouting-260nw-150537584.jpg
END:VEVENT
END:VCALENDAR