BEGIN:VCALENDAR
VERSION:2.0
PRODID:-//Limerzel - ECPv5.9.2//NONSGML v1.0//EN
CALSCALE:GREGORIAN
METHOD:PUBLISH
X-WR-CALNAME:Limerzel
X-ORIGINAL-URL:https://www.limerzel.fr
X-WR-CALDESC:évènements pour Limerzel
BEGIN:VTIMEZONE
TZID:Europe/Paris
BEGIN:DAYLIGHT
TZOFFSETFROM:+0100
TZOFFSETTO:+0200
TZNAME:CEST
DTSTART:20210328T010000
END:DAYLIGHT
BEGIN:STANDARD
TZOFFSETFROM:+0200
TZOFFSETTO:+0100
TZNAME:CET
DTSTART:20211031T010000
END:STANDARD
END:VTIMEZONE
BEGIN:VEVENT
DTSTART;TZID=Europe/Paris:20210713T193000
DTEND;TZID=Europe/Paris:20210713T233000
DTSTAMP:20260424T092202
CREATED:20210630T064732Z
LAST-MODIFIED:20210630T064732Z
UID:11201-1626204600-1626219000@www.limerzel.fr
SUMMARY:Limerzel fait son cinéma
DESCRIPTION:Partager la publication "Limerzel fait son cinéma" \n\n	FacebookXPartager...
URL:https://www.limerzel.fr/evenement/limerzel-fait-son-cinema/
LOCATION:salle polyvalente\, limerzel\, 56220\, France
END:VEVENT
END:VCALENDAR