BEGIN:VCALENDAR
VERSION:2.0
PRODID:-//Limerzel - ECPv5.9.2//NONSGML v1.0//EN
CALSCALE:GREGORIAN
METHOD:PUBLISH
X-WR-CALNAME:Limerzel
X-ORIGINAL-URL:https://www.limerzel.fr
X-WR-CALDESC:évènements pour Limerzel
BEGIN:VTIMEZONE
TZID:Europe/Paris
BEGIN:DAYLIGHT
TZOFFSETFROM:+0100
TZOFFSETTO:+0200
TZNAME:CEST
DTSTART:20220327T010000
END:DAYLIGHT
BEGIN:STANDARD
TZOFFSETFROM:+0200
TZOFFSETTO:+0100
TZNAME:CET
DTSTART:20221030T010000
END:STANDARD
END:VTIMEZONE
BEGIN:VEVENT
DTSTART;TZID=Europe/Paris:20220520T090000
DTEND;TZID=Europe/Paris:20220520T120000
DTSTAMP:20260426T061104
CREATED:20220512T102936Z
LAST-MODIFIED:20220512T102936Z
UID:16946-1653037200-1653048000@www.limerzel.fr
SUMMARY:Matinée de nettoyage des sentiers
DESCRIPTION:Partager la publication "Matinée de nettoyage des sentiers" \n\n	FacebookXPartager...
URL:https://www.limerzel.fr/evenement/matinee-de-nettoyage-des-sentiers/
LOCATION:services techniques\, za de Bodien\, Limerzel\, 56220
ATTACH;FMTTYPE=image/jpeg:https://www.limerzel.fr/wp-content/uploads/2019/01/book-nature-isolated-on-white-260nw-132443528.jpg
END:VEVENT
END:VCALENDAR