BEGIN:VCALENDAR
VERSION:2.0
PRODID:-//Limerzel - ECPv5.9.2//NONSGML v1.0//EN
CALSCALE:GREGORIAN
METHOD:PUBLISH
X-WR-CALNAME:Limerzel
X-ORIGINAL-URL:https://www.limerzel.fr
X-WR-CALDESC:évènements pour Limerzel
BEGIN:VTIMEZONE
TZID:Europe/Paris
BEGIN:DAYLIGHT
TZOFFSETFROM:+0100
TZOFFSETTO:+0200
TZNAME:CEST
DTSTART:20160327T010000
END:DAYLIGHT
BEGIN:STANDARD
TZOFFSETFROM:+0200
TZOFFSETTO:+0100
TZNAME:CET
DTSTART:20161030T010000
END:STANDARD
END:VTIMEZONE
BEGIN:VEVENT
DTSTART;TZID=Europe/Paris:20160923T203000
DTEND;TZID=Europe/Paris:20160923T203000
DTSTAMP:20260421T195124
CREATED:20160914T082419Z
LAST-MODIFIED:20160914T082920Z
UID:6206-1474662600-1474662600@www.limerzel.fr
SUMMARY:Ouverture de la saison culturelle de l'Asphodèle
DESCRIPTION:Présentation suivie du spectacle de la compagnie de Nina La gaine\, « Tudanses? Bagatelle #2 »\nElle est assise sur un tabouret de bar et attend qu’on l’invite à danser.\nCe qui va arriver\, évidemment\, … mais quel partenaire viendra à elle ce soir ?\nTu Danses ? Bagatelle # 2 ou l’art et la manière de s’en sortir quand on a une furieuse envie\nde danser…mais pas de cavalier.\nSur une musique live pleine de sensualité et de groove\, Nina La Gaine invite le public à partager\nun moment d’intimité cocasse\, de manipulation swinguée… et de danse. \n\n\nPartager la publication "Ouverture de la saison culturelle de l’Asphodèle" \n\n	FacebookXPartager...
URL:https://www.limerzel.fr/evenement/ouverture-de-saison-culturelle-de-lasphodele/
END:VEVENT
END:VCALENDAR