BEGIN:VCALENDAR
VERSION:2.0
PRODID:-//Limerzel - ECPv5.9.2//NONSGML v1.0//EN
CALSCALE:GREGORIAN
METHOD:PUBLISH
X-WR-CALNAME:Limerzel
X-ORIGINAL-URL:https://www.limerzel.fr
X-WR-CALDESC:évènements pour Limerzel
BEGIN:VTIMEZONE
TZID:Europe/Paris
BEGIN:DAYLIGHT
TZOFFSETFROM:+0100
TZOFFSETTO:+0200
TZNAME:CEST
DTSTART:20160327T010000
END:DAYLIGHT
BEGIN:STANDARD
TZOFFSETFROM:+0200
TZOFFSETTO:+0100
TZNAME:CET
DTSTART:20161030T010000
END:STANDARD
END:VTIMEZONE
BEGIN:VEVENT
DTSTART;VALUE=DATE:20160918
DTEND;VALUE=DATE:20160919
DTSTAMP:20260422T030608
CREATED:20160621T090512Z
LAST-MODIFIED:20160707T175942Z
UID:5476-1474156800-1474243199@www.limerzel.fr
SUMMARY:Pardon de Saint Clair
DESCRIPTION:Messe à partir de 11h en la Chapelle\, 12h30 Boeuf bourguignon\, suivi d’une fête champêtre \n\n\nPartager la publication "Pardon de Saint Clair" \n\n	FacebookXPartager...
URL:https://www.limerzel.fr/evenement/pardon-de-saint-clair/
END:VEVENT
END:VCALENDAR