BEGIN:VCALENDAR
VERSION:2.0
PRODID:-//Limerzel - ECPv5.9.2//NONSGML v1.0//EN
CALSCALE:GREGORIAN
METHOD:PUBLISH
X-WR-CALNAME:Limerzel
X-ORIGINAL-URL:https://www.limerzel.fr
X-WR-CALDESC:évènements pour Limerzel
BEGIN:VTIMEZONE
TZID:Europe/Paris
BEGIN:DAYLIGHT
TZOFFSETFROM:+0100
TZOFFSETTO:+0200
TZNAME:CEST
DTSTART:20160327T010000
END:DAYLIGHT
BEGIN:STANDARD
TZOFFSETFROM:+0200
TZOFFSETTO:+0100
TZNAME:CET
DTSTART:20161030T010000
END:STANDARD
END:VTIMEZONE
BEGIN:VEVENT
DTSTART;TZID=Europe/Paris:20160921T203000
DTEND;TZID=Europe/Paris:20160921T203000
DTSTAMP:20260421T234531
CREATED:20160914T081206Z
LAST-MODIFIED:20160914T081231Z
UID:6203-1474489800-1474489800@www.limerzel.fr
SUMMARY:Réunion de préparation Fête de la châtaigne
DESCRIPTION:Salle Associative. Les bonnes volontés sont les bienvenues \n\n\nPartager la publication "Réunion de préparation Fête de la châtaigne" \n\n	FacebookXPartager...
URL:https://www.limerzel.fr/evenement/reunion-de-preparation-fete-de-chataigne/
END:VEVENT
END:VCALENDAR