BEGIN:VCALENDAR
VERSION:2.0
PRODID:-//Limerzel - ECPv5.9.2//NONSGML v1.0//EN
CALSCALE:GREGORIAN
METHOD:PUBLISH
X-WR-CALNAME:Limerzel
X-ORIGINAL-URL:https://www.limerzel.fr
X-WR-CALDESC:évènements pour Limerzel
BEGIN:VTIMEZONE
TZID:Europe/Paris
BEGIN:DAYLIGHT
TZOFFSETFROM:+0100
TZOFFSETTO:+0200
TZNAME:CEST
DTSTART:20250330T010000
END:DAYLIGHT
BEGIN:STANDARD
TZOFFSETFROM:+0200
TZOFFSETTO:+0100
TZNAME:CET
DTSTART:20251026T010000
END:STANDARD
END:VTIMEZONE
BEGIN:VEVENT
DTSTART;TZID=Europe/Paris:20250405T140000
DTEND;TZID=Europe/Paris:20250405T140000
DTSTAMP:20260421T120520
CREATED:20250305T093107Z
LAST-MODIFIED:20250305T093107Z
UID:34181-1743861600-1743861600@www.limerzel.fr
SUMMARY:Spectacle humoristique et interactif
DESCRIPTION:Partager la publication "Spectacle humoristique et interactif" \n\n	FacebookXPartager...
URL:https://www.limerzel.fr/evenement/spectacle-humoristique-et-interactif/
LOCATION:pluherlin\, pluherlin\, 56220\, France Métropolitaine
END:VEVENT
END:VCALENDAR